BEGIN:VCALENDAR
VERSION:2.0
PRODID:-//Headwaters Regional Development - ECPv6.15.17.1//NONSGML v1.0//EN
CALSCALE:GREGORIAN
METHOD:PUBLISH
X-ORIGINAL-URL:https://hrdc.org
X-WR-CALDESC:Events for Headwaters Regional Development
REFRESH-INTERVAL;VALUE=DURATION:PT1H
X-Robots-Tag:noindex
X-PUBLISHED-TTL:PT1H
BEGIN:VTIMEZONE
TZID:America/Chicago
BEGIN:DAYLIGHT
TZOFFSETFROM:-0600
TZOFFSETTO:-0500
TZNAME:CDT
DTSTART:20240310T080000
END:DAYLIGHT
BEGIN:STANDARD
TZOFFSETFROM:-0500
TZOFFSETTO:-0600
TZNAME:CST
DTSTART:20241103T070000
END:STANDARD
BEGIN:DAYLIGHT
TZOFFSETFROM:-0600
TZOFFSETTO:-0500
TZNAME:CDT
DTSTART:20250309T080000
END:DAYLIGHT
BEGIN:STANDARD
TZOFFSETFROM:-0500
TZOFFSETTO:-0600
TZNAME:CST
DTSTART:20251102T070000
END:STANDARD
BEGIN:DAYLIGHT
TZOFFSETFROM:-0600
TZOFFSETTO:-0500
TZNAME:CDT
DTSTART:20260308T080000
END:DAYLIGHT
BEGIN:STANDARD
TZOFFSETFROM:-0500
TZOFFSETTO:-0600
TZNAME:CST
DTSTART:20261101T070000
END:STANDARD
END:VTIMEZONE
BEGIN:VEVENT
DTSTART;TZID=America/Chicago:20250514T150000
DTEND;TZID=America/Chicago:20250514T170000
DTSTAMP:20260422T013110
CREATED:20250124T154215Z
LAST-MODIFIED:20250220T171419Z
UID:2390-1747234800-1747242000@hrdc.org
SUMMARY:Beltrami County HRA Meeting
DESCRIPTION:For meeting invites contact Sandy Hennum at shennum@hrdc.org \nMeetings held at: \nHeadwaters Regional Development Commission Building \n1320 Neilson Ave SE \nBemidji\, MN 56601 \nUpcoming Meeting Schedule  \nWednesday\, June 18\, 2025@ 3:00pm \nWednesday\, July 16 2025@ 3:00pm \nWednesday\, August 20 2025@ 3:00pm \n 
URL:https://hrdc.org/event/headwaters-regional-development-commission/
LOCATION:MN
CATEGORIES:meetings
END:VEVENT
BEGIN:VEVENT
DTSTART;TZID=America/Chicago:20250515T173000
DTEND;TZID=America/Chicago:20250515T193000
DTSTAMP:20260422T013110
CREATED:20250124T152059Z
LAST-MODIFIED:20250124T154437Z
UID:2374-1747330200-1747337400@hrdc.org
SUMMARY:Headwaters Regional Development Commission Board Meeting
DESCRIPTION:For meeting invites contact Calvin Larson at CLarson@hrdc.org \n  \nMeetings held at: \nHeadwaters Regional Development Commission Building \n1320 Neilson Ave SE \nBemidji\, MN 56601 \nUpcoming Meetings Schedule \nThursday\, June 19\, 2025 at 5:50 \n 
URL:https://hrdc.org/event/2374/
LOCATION:MN
CATEGORIES:meetings
END:VEVENT
BEGIN:VEVENT
DTSTART;TZID=America/Chicago:20250521T150000
DTEND;TZID=America/Chicago:20250521T190000
DTSTAMP:20260422T013110
CREATED:20250124T153724Z
LAST-MODIFIED:20250220T171351Z
UID:2383-1747839600-1747854000@hrdc.org
SUMMARY:Headwaters Housing Development Corporation (HHDC) Meeting
DESCRIPTION:For meeting invites contact Rhonda Walters at rwalters@hrdc.org \n  \nMeetings held at: \nHeadwaters Regional Development Commission Building \n1320 Neilson Ave SE \nBemidji\, MN 56601 \nUpcoming Meetings Schedule \nTBD \n 
URL:https://hrdc.org/event/headwaters-housing-development-corporation/
LOCATION:MN
CATEGORIES:meetings
END:VEVENT
END:VCALENDAR