BEGIN:VCALENDAR
VERSION:2.0
PRODID:-//Headwaters Regional Development - ECPv6.15.17.1//NONSGML v1.0//EN
CALSCALE:GREGORIAN
METHOD:PUBLISH
X-ORIGINAL-URL:https://hrdc.org
X-WR-CALDESC:Events for Headwaters Regional Development
REFRESH-INTERVAL;VALUE=DURATION:PT1H
X-Robots-Tag:noindex
X-PUBLISHED-TTL:PT1H
BEGIN:VTIMEZONE
TZID:America/Chicago
BEGIN:DAYLIGHT
TZOFFSETFROM:-0600
TZOFFSETTO:-0500
TZNAME:CDT
DTSTART:20240310T080000
END:DAYLIGHT
BEGIN:STANDARD
TZOFFSETFROM:-0500
TZOFFSETTO:-0600
TZNAME:CST
DTSTART:20241103T070000
END:STANDARD
BEGIN:DAYLIGHT
TZOFFSETFROM:-0600
TZOFFSETTO:-0500
TZNAME:CDT
DTSTART:20250309T080000
END:DAYLIGHT
BEGIN:STANDARD
TZOFFSETFROM:-0500
TZOFFSETTO:-0600
TZNAME:CST
DTSTART:20251102T070000
END:STANDARD
BEGIN:DAYLIGHT
TZOFFSETFROM:-0600
TZOFFSETTO:-0500
TZNAME:CDT
DTSTART:20260308T080000
END:DAYLIGHT
BEGIN:STANDARD
TZOFFSETFROM:-0500
TZOFFSETTO:-0600
TZNAME:CST
DTSTART:20261101T070000
END:STANDARD
END:VTIMEZONE
BEGIN:VEVENT
DTSTART;TZID=America/Chicago:20250212T150000
DTEND;TZID=America/Chicago:20250212T170000
DTSTAMP:20260419T073416
CREATED:20250124T151303Z
LAST-MODIFIED:20250124T151533Z
UID:2367-1739372400-1739379600@hrdc.org
SUMMARY:Beltrami County HRA Meeting
DESCRIPTION:For meeting invites contact Sandy Hennum at shennum@hrdc.org \nMeetings held at: \nHeadwaters Regional Development Commission Building \n1320 Neilson Ave SE \nBemidji\, MN 56601 \nUpcoming Meeting Schedule  \nWednesday\, March 19\, 2025 @ 3:00pm \nWednesday\, April 16\, 2025  @ 3:00pm \nWednesday\, May 21\, 2025 @ 3:00pm \nWednesday\, June 18\, 2025@ 3:00pm
URL:https://hrdc.org/event/beltrami-county-hra-meeting-2/
LOCATION:MN
CATEGORIES:meetings
ORGANIZER;CN="Sandy Hennum":MAILTO:shennum@hrdc.org
END:VEVENT
BEGIN:VEVENT
DTSTART;TZID=America/Chicago:20250219T160000
DTEND;TZID=America/Chicago:20250219T180000
DTSTAMP:20260419T073416
CREATED:20250124T152514Z
LAST-MODIFIED:20250220T165423Z
UID:2376-1739980800-1739988000@hrdc.org
SUMMARY:Headwaters Housing Development Corporation (HHDC) Meeting
DESCRIPTION:For meeting invites contact Rhonda Walters at rwalters@hrdc.org \nMeetings held at: \nHeadwaters Regional Development Commission Building \n1320 Neilson Ave SE \nBemidji\, MN 56601 \nUpcoming Meetings Schedule \nThursday\, March 20\,2025 at 5:00pm \nThursday\, April 17\,2025 at 5:00pm \nThursday\, May 15\, 2025 at 5:00pm \nThursday\, June 19\, 2025 at 5:00pm \nThursday\, July 17\, 2025 at 5:00pmF
URL:https://hrdc.org/event/headwaters-housing-development-corporation-hhdc-meeting-6/
LOCATION:MN
CATEGORIES:meetings
END:VEVENT
BEGIN:VEVENT
DTSTART;TZID=America/Chicago:20250220T173000
DTEND;TZID=America/Chicago:20250220T193000
DTSTAMP:20260419T073416
CREATED:20250124T154107Z
LAST-MODIFIED:20250220T165232Z
UID:2386-1740072600-1740079800@hrdc.org
SUMMARY:Headwaters Regional Development Commission Board Meeting
DESCRIPTION:For meeting invites contact Calvin Larson at CLarson@hrdc.org \n  \nMeetings held at: \nHeadwaters Regional Development Commission Building \n1320 Neilson Ave SE \nBemidji\, MN 56601 \nUpcoming Meetings Schedule \nThursday\, March 20\, 2025 at 5:50 \nThursday\, April 17\, 2025 at 5:50 \nThursday\, May 15\, 2025 at 5:50 \nThursday\, June 19\, 2025 at 5:50
URL:https://hrdc.org/event/headwaters-regional-development-commission-board-meeting-6/
LOCATION:MN
CATEGORIES:meetings
END:VEVENT
BEGIN:VEVENT
DTSTART;TZID=America/Chicago:20250224T170000
DTEND;TZID=America/Chicago:20250224T180000
DTSTAMP:20260419T073416
CREATED:20250220T172209Z
LAST-MODIFIED:20250220T172209Z
UID:2463-1740416400-1740420000@hrdc.org
SUMMARY:Bemidji Area Young Farmer's Network
DESCRIPTION:Join Amber Lynne to discuss growing\, foraging\, livestock\, bees\, and produce. \nThis network is for all ages who want to learn how to farm. \nRSVP through the link below. \nhttps://www.surveymonkey.com/r/BAYFN?fbclid=IwY2xjawIkQ6tleHRuA2FlbQIxMAABHdu9w7x1v3zBFkqyVV4F9KLOJcXArKZuUBDXgkWR2Tpj7QhOXwwkPIarDA_aem_rbGnJ36c_SFXlEVXFmtfPA \nHope to see you there! \n 
URL:https://hrdc.org/event/bemidji-area-young-farmers-network/
LOCATION:Headwater Regional Development Commission\, 1320 Neilson Ave SE\, Bemidji\, MN\, 56601
END:VEVENT
END:VCALENDAR