BEGIN:VCALENDAR
VERSION:2.0
PRODID:-//Headwaters Regional Development - ECPv6.15.17.1//NONSGML v1.0//EN
CALSCALE:GREGORIAN
METHOD:PUBLISH
X-ORIGINAL-URL:https://hrdc.org
X-WR-CALDESC:Events for Headwaters Regional Development
REFRESH-INTERVAL;VALUE=DURATION:PT1H
X-Robots-Tag:noindex
X-PUBLISHED-TTL:PT1H
BEGIN:VTIMEZONE
TZID:America/Chicago
BEGIN:DAYLIGHT
TZOFFSETFROM:-0600
TZOFFSETTO:-0500
TZNAME:CDT
DTSTART:20240310T080000
END:DAYLIGHT
BEGIN:STANDARD
TZOFFSETFROM:-0500
TZOFFSETTO:-0600
TZNAME:CST
DTSTART:20241103T070000
END:STANDARD
BEGIN:DAYLIGHT
TZOFFSETFROM:-0600
TZOFFSETTO:-0500
TZNAME:CDT
DTSTART:20250309T080000
END:DAYLIGHT
BEGIN:STANDARD
TZOFFSETFROM:-0500
TZOFFSETTO:-0600
TZNAME:CST
DTSTART:20251102T070000
END:STANDARD
BEGIN:DAYLIGHT
TZOFFSETFROM:-0600
TZOFFSETTO:-0500
TZNAME:CDT
DTSTART:20260308T080000
END:DAYLIGHT
BEGIN:STANDARD
TZOFFSETFROM:-0500
TZOFFSETTO:-0600
TZNAME:CST
DTSTART:20261101T070000
END:STANDARD
BEGIN:DAYLIGHT
TZOFFSETFROM:-0600
TZOFFSETTO:-0500
TZNAME:CDT
DTSTART:20270314T080000
END:DAYLIGHT
BEGIN:STANDARD
TZOFFSETFROM:-0500
TZOFFSETTO:-0600
TZNAME:CST
DTSTART:20271107T070000
END:STANDARD
END:VTIMEZONE
BEGIN:VEVENT
DTSTART;TZID=America/Chicago:20251117T120000
DTEND;TZID=America/Chicago:20251117T133000
DTSTAMP:20260421T190636
CREATED:20251016T221705Z
LAST-MODIFIED:20251021T212903Z
UID:2564-1763380800-1763386200@hrdc.org
SUMMARY:Leading Together Presents: Fall Workshops
DESCRIPTION:Learn More Register Here \n  \nUpon completing registration\, click the button below and scan the QR code to make your payment. \nMake Payment \n  \nPlease Note: The fall workshop sessions\, while occurring at different dates and times\, contain identical content and learning objectives. As such\, attendees should register for one session only.
URL:https://hrdc.org/event/leading-together-presents-fall-workshops/
LOCATION:Zoom
END:VEVENT
BEGIN:VEVENT
DTSTART;TZID=America/Chicago:20251118T120000
DTEND;TZID=America/Chicago:20251118T133000
DTSTAMP:20260421T190636
CREATED:20251016T221829Z
LAST-MODIFIED:20251021T212830Z
UID:2569-1763467200-1763472600@hrdc.org
SUMMARY:Leading Together Presents: Fall Workshops
DESCRIPTION:Learn More Register Here \n  \nUpon completing registration\, click the button below and scan the QR code to make your payment. \nMake Payment \n  \nPlease Note: The fall workshop sessions\, while occurring at different dates and times\, contain identical content and learning objectives. As such\, attendees should register for one session only.
URL:https://hrdc.org/event/leading-together-presents-fall-workshops-2/
LOCATION:Zoom
END:VEVENT
BEGIN:VEVENT
DTSTART;TZID=America/Chicago:20251119T120000
DTEND;TZID=America/Chicago:20251119T133000
DTSTAMP:20260421T190636
CREATED:20251016T221943Z
LAST-MODIFIED:20251021T212735Z
UID:2571-1763553600-1763559000@hrdc.org
SUMMARY:Leading Together Presents: Fall Workshops
DESCRIPTION:Learn More Register Here \nUpon completing registration\, click the button below and scan the QR code to make your payment. \nMake Payment \n  \nPlease Note: The fall workshop sessions\, while occurring at different dates and times\, contain identical content and learning objectives. As such\, attendees should register for one session only.
URL:https://hrdc.org/event/leading-together-presents-fall-workshops-3/
LOCATION:Headwater Regional Development Commission\, 1320 Neilson Ave SE\, Bemidji\, MN\, 56601
END:VEVENT
BEGIN:VEVENT
DTSTART;TZID=America/Chicago:20260128T160000
DTEND;TZID=America/Chicago:20260128T180000
DTSTAMP:20260421T190636
CREATED:20260128T150751Z
LAST-MODIFIED:20260128T161905Z
UID:2641-1769616000-1769623200@hrdc.org
SUMMARY:Headwaters Housing Development Corporation (HHDC) Meeting
DESCRIPTION:For meeting invites contact Rhonda Walters at rwalters@hrdc.org \n  \nMeetings held at: \nHeadwaters Regional Development Commission Building \n1320 Neilson Ave SE \nBemidji\, MN 56601 \nUpcoming Meetings Schedule \nFebruary 18\, 2026 \nMarch 18\, 2026 \nApril 15\, 2026 \nMay 20\, 2026 \nJune 17\, 2026 \nJuly 15\, 2026 \nAugust 19\, 2026 \nSeptember 16\, 2026 \nOctober 21\, 2026 \nNovember 18\, 2026
URL:https://hrdc.org/event/headwaters-housing-development-corporation-hhdc-meeting-9/
LOCATION:Headwater Regional Development Commission\, 1320 Neilson Ave SE\, Bemidji\, MN\, 56601
CATEGORIES:meetings
ATTACH;FMTTYPE=image/jpeg:https://hrdc.org/wp-content/uploads/2026/01/HS-Build-Outside.jpg
END:VEVENT
BEGIN:VEVENT
DTSTART;TZID=America/Chicago:20260211T150000
DTEND;TZID=America/Chicago:20260211T170000
DTSTAMP:20260421T190636
CREATED:20260128T153522Z
LAST-MODIFIED:20260128T162420Z
UID:2666-1770822000-1770829200@hrdc.org
SUMMARY:Beltrami County HRA Meeting
DESCRIPTION:Meetings held at: \nHeadwaters Regional Development Commission Building \n1320 Neilson Ave SE \nBemidji\, MN 56601 \nUpcoming Meetings Schedule \nWednesday\, March 18\, 2026\nWednesday\, April 8\, 2026\nWednesday\, May 13\, 2026\nWednesday\, June 10\, 2026\nWednesday\, July 8\, 2026\nWednesday\, August 12\, 2026\nWednesday\, September 9\, 2026\nWednesday\, October 14\, 2026\nWednesday\, November 11\, 2026\nWednesday\, December 9\, 2026 \nFor meeting invites contact Sandy Hennum at shennum@hrdc.org
URL:https://hrdc.org/event/beltrami-county-hra-meeting-5/
LOCATION:Headwater Regional Development Commission\, 1320 Neilson Ave SE\, Bemidji\, MN\, 56601
CATEGORIES:meetings
ATTACH;FMTTYPE=image/jpeg:https://hrdc.org/wp-content/uploads/2021/07/Villas-Building-1-March-2021-scaled.jpg
ORGANIZER;CN="Sandy Hennum":MAILTO:shennum@hrdc.org
END:VEVENT
BEGIN:VEVENT
DTSTART;TZID=America/Chicago:20260218T160000
DTEND;TZID=America/Chicago:20260218T180000
DTSTAMP:20260421T190636
CREATED:20260128T150849Z
LAST-MODIFIED:20260128T162327Z
UID:2643-1771430400-1771437600@hrdc.org
SUMMARY:Headwaters Housing Development Corporation (HHDC) Meeting
DESCRIPTION:For meeting invites contact Rhonda Walters at rwalters@hrdc.org \n  \nMeetings held at: \nHeadwaters Regional Development Commission Building \n1320 Neilson Ave SE \nBemidji\, MN 56601 \nUpcoming Meetings Schedule \nMarch 18\, 2026 \nApril 15\, 2026 \nMay 20\, 2026 \nJune 17\, 2026 \nJuly 15\, 2026 \nAugust 19\, 2026 \nSeptember 16\, 2026 \nOctober 21\, 2026 \nNovember 18\, 2026
URL:https://hrdc.org/event/headwaters-housing-development-corporation-hhdc-meeting-10/
LOCATION:Headwater Regional Development Commission\, 1320 Neilson Ave SE\, Bemidji\, MN\, 56601
CATEGORIES:meetings
ATTACH;FMTTYPE=image/jpeg:https://hrdc.org/wp-content/uploads/2026/01/HS-Build-Outside.jpg
END:VEVENT
BEGIN:VEVENT
DTSTART;TZID=America/Chicago:20260219T173000
DTEND;TZID=America/Chicago:20260219T193000
DTSTAMP:20260421T190636
CREATED:20260128T163055Z
LAST-MODIFIED:20260128T212819Z
UID:2698-1771522200-1771529400@hrdc.org
SUMMARY:Headwaters Regional Development Commission Board Meeting
DESCRIPTION:Meetings held at: \nHeadwaters Regional Development Commission Building \n1320 Neilson Ave SE \nBemidji\, MN 56601 \nUpcoming Meetings Schedule \nThursday\, March 19\, 2026 \nThursday\, April 16\, 2026 \nThursday\, May 21\, 2026 \nThursday\, June 18 2026 \nThursday\, July 16\, 2026 \nThursday\, September 17\, 2026 \nThursday\, October 15\, 2026 \nThursday\, November 19\, 2026 \nFor meeting invites contact Calvin Larson at CLarson@hrdc.org
URL:https://hrdc.org/event/headwaters-regional-development-commission-board-meeting-9/
LOCATION:Headwater Regional Development Commission\, 1320 Neilson Ave SE\, Bemidji\, MN\, 56601
ATTACH;FMTTYPE=image/jpeg:https://hrdc.org/wp-content/uploads/2020/06/cropped-HRDC-icon.jpg
END:VEVENT
BEGIN:VEVENT
DTSTART;TZID=America/Chicago:20260311T150000
DTEND;TZID=America/Chicago:20260311T170000
DTSTAMP:20260421T190636
CREATED:20260128T153610Z
LAST-MODIFIED:20260128T162447Z
UID:2668-1773241200-1773248400@hrdc.org
SUMMARY:Beltrami County HRA Meeting
DESCRIPTION:Meetings held at: \nHeadwaters Regional Development Commission Building \n1320 Neilson Ave SE \nBemidji\, MN 56601 \nUpcoming Meetings Schedule \nWednesday\, April 8\, 2026\nWednesday\, May 13\, 2026\nWednesday\, June 10\, 2026\nWednesday\, July 8\, 2026\nWednesday\, August 12\, 2026\nWednesday\, September 9\, 2026\nWednesday\, October 14\, 2026\nWednesday\, November 11\, 2026\nWednesday\, December 9\, 2026 \nFor meeting invites contact Sandy Hennum at shennum@hrdc.org \n 
URL:https://hrdc.org/event/beltrami-county-hra-meeting-6/
LOCATION:Headwater Regional Development Commission\, 1320 Neilson Ave SE\, Bemidji\, MN\, 56601
CATEGORIES:meetings
ATTACH;FMTTYPE=image/jpeg:https://hrdc.org/wp-content/uploads/2021/07/Villas-Building-1-March-2021-scaled.jpg
ORGANIZER;CN="Sandy Hennum":MAILTO:shennum@hrdc.org
END:VEVENT
BEGIN:VEVENT
DTSTART;TZID=America/Chicago:20260318T160000
DTEND;TZID=America/Chicago:20260318T180000
DTSTAMP:20260421T190636
CREATED:20260128T150932Z
LAST-MODIFIED:20260128T162201Z
UID:2645-1773849600-1773856800@hrdc.org
SUMMARY:Headwaters Housing Development Corporation (HHDC) Meeting
DESCRIPTION:Meetings held at: \nHeadwaters Regional Development Commission Building \n1320 Neilson Ave SE \nBemidji\, MN 56601 \nUpcoming Meetings Schedule \nApril 15\, 2026 \nMay 20\, 2026 \nJune 17\, 2026 \nJuly 15\, 2026 \nAugust 19\, 2026 \nSeptember 16\, 2026 \nOctober 21\, 2026 \nNovember 18\, 2026
URL:https://hrdc.org/event/headwaters-housing-development-corporation-hhdc-meeting-11/
LOCATION:Headwater Regional Development Commission\, 1320 Neilson Ave SE\, Bemidji\, MN\, 56601
CATEGORIES:meetings
ATTACH;FMTTYPE=image/jpeg:https://hrdc.org/wp-content/uploads/2026/01/HS-Build-Outside.jpg
END:VEVENT
BEGIN:VEVENT
DTSTART;TZID=America/Chicago:20260319T173000
DTEND;TZID=America/Chicago:20260319T193000
DTSTAMP:20260421T190636
CREATED:20260128T180720Z
LAST-MODIFIED:20260128T213006Z
UID:2706-1773941400-1773948600@hrdc.org
SUMMARY:Headwaters Regional Development Commission Board Meeting
DESCRIPTION:Meetings held at: \nHeadwaters Regional Development Commission Building \n1320 Neilson Ave SE \nBemidji\, MN 56601 \nUpcoming Meetings Schedule \nThursday\, April 16\, 2026 \nThursday\, May 21\, 2026 \nThursday\, June 18 2026 \nThursday\, July 16\, 2026 \nThursday\, September 17\, 2026 \nThursday\, October 15\, 2026 \nThursday\, November 19\, 2026 \nFor meeting invites contact Calvin Larson at CLarson@hrdc.org
URL:https://hrdc.org/event/headwaters-regional-development-commission-board-meeting-10/
LOCATION:Headwater Regional Development Commission\, 1320 Neilson Ave SE\, Bemidji\, MN\, 56601
ATTACH;FMTTYPE=image/jpeg:https://hrdc.org/wp-content/uploads/2020/06/cropped-HRDC-icon.jpg
END:VEVENT
BEGIN:VEVENT
DTSTART;TZID=America/Chicago:20260326T100000
DTEND;TZID=America/Chicago:20260326T170000
DTSTAMP:20260421T190636
CREATED:20260128T161121Z
LAST-MODIFIED:20260128T164926Z
UID:2690-1774519200-1774544400@hrdc.org
SUMMARY:MN Farm to Kids Roadshow
DESCRIPTION:The MN Farm to Kids Roadshow will bring together producers\, school nutrition professionals and early care providers to make new connections and learn how to build successful relationships. \nClick link below for more details. \nMN 2026 FARM TO KIDS ROADSHOW FLYER
URL:https://hrdc.org/event/mn-farm-to-kids-roadshow/
LOCATION:Bagley High School\, 1130 Main Ave NW\, Bagley\, MN\, 56621\, United States
ATTACH;FMTTYPE=image/png:https://hrdc.org/wp-content/uploads/2026/01/Screenshot-2026-01-28-102645.png
END:VEVENT
BEGIN:VEVENT
DTSTART;TZID=America/Chicago:20260408T150000
DTEND;TZID=America/Chicago:20260408T170000
DTSTAMP:20260421T190636
CREATED:20260128T153915Z
LAST-MODIFIED:20260128T162513Z
UID:2670-1775660400-1775667600@hrdc.org
SUMMARY:Beltrami County HRA Meeting
DESCRIPTION:Meetings held at: \nHeadwaters Regional Development Commission Building \n1320 Neilson Ave SE \nBemidji\, MN 56601 \nUpcoming Meetings Schedule \nWednesday\, May 13\, 2026\nWednesday\, June 10\, 2026\nWednesday\, July 8\, 2026\nWednesday\, August 12\, 2026\nWednesday\, September 9\, 2026\nWednesday\, October 14\, 2026\nWednesday\, November 11\, 2026\nWednesday\, December 9\, 2026 \nFor meeting invites contact Sandy Hennum at shennum@hrdc.org
URL:https://hrdc.org/event/beltrami-county-hra-meeting-7/
LOCATION:Headwater Regional Development Commission\, 1320 Neilson Ave SE\, Bemidji\, MN\, 56601
CATEGORIES:meetings
ATTACH;FMTTYPE=image/jpeg:https://hrdc.org/wp-content/uploads/2021/07/Villas-Building-1-March-2021-scaled.jpg
ORGANIZER;CN="Sandy Hennum":MAILTO:shennum@hrdc.org
END:VEVENT
BEGIN:VEVENT
DTSTART;TZID=America/Chicago:20260415T160000
DTEND;TZID=America/Chicago:20260415T180000
DTSTAMP:20260421T190636
CREATED:20260128T151044Z
LAST-MODIFIED:20260128T162221Z
UID:2647-1776268800-1776276000@hrdc.org
SUMMARY:Headwaters Housing Development Corporation (HHDC) Meeting
DESCRIPTION:Meetings held at: \nHeadwaters Regional Development Commission Building \n1320 Neilson Ave SE \nBemidji\, MN 56601 \nUpcoming Meetings Schedule \nMay 20\, 2026 \nJune 17\, 2026 \nJuly 15\, 2026 \nAugust 19\, 2026 \nSeptember 16\, 2026 \nOctober 21\, 2026 \nNovember 18\, 2026 \n  \nFor meeting invites contact Rhonda Walters at rwalters@hrdc.org
URL:https://hrdc.org/event/headwaters-housing-development-corporation-hhdc-meeting-12/
LOCATION:Headwater Regional Development Commission\, 1320 Neilson Ave SE\, Bemidji\, MN\, 56601
CATEGORIES:meetings
ATTACH;FMTTYPE=image/jpeg:https://hrdc.org/wp-content/uploads/2026/01/HS-Build-Outside.jpg
END:VEVENT
BEGIN:VEVENT
DTSTART;TZID=America/Chicago:20260423T173000
DTEND;TZID=America/Chicago:20260423T193000
DTSTAMP:20260421T190636
CREATED:20260128T181603Z
LAST-MODIFIED:20260416T143317Z
UID:2708-1776965400-1776972600@hrdc.org
SUMMARY:Headwaters Regional Development Commission Board Meeting
DESCRIPTION:Meetings held at: \nHeadwaters Regional Development Commission Building \n1320 Neilson Ave SE \nBemidji\, MN 56601 \nUpcoming Meetings Schedule \nThursday\, May 21\, 2026 \nThursday\, June 18 2026 \nThursday\, July 16\, 2026 \nThursday\, September 17\, 2026 \nThursday\, October 15\, 2026 \nThursday\, November 19\, 2026 \nFor meeting invites contact Calvin Larson at CLarson@hrdc.org
URL:https://hrdc.org/event/headwaters-regional-development-commission-board-meeting-11/
LOCATION:Headwater Regional Development Commission\, 1320 Neilson Ave SE\, Bemidji\, MN\, 56601
ATTACH;FMTTYPE=image/jpeg:https://hrdc.org/wp-content/uploads/2020/06/cropped-HRDC-icon.jpg
END:VEVENT
BEGIN:VEVENT
DTSTART;VALUE=DATE:20260506
DTEND;VALUE=DATE:20260509
DTSTAMP:20260421T190636
CREATED:20260310T233150Z
LAST-MODIFIED:20260310T234407Z
UID:2760-1778025600-1778284799@hrdc.org
SUMMARY:Leading Together: Women's Leadership Retreat
DESCRIPTION:Print Flyer \nClick Here to Register
URL:https://hrdc.org/event/leading-together-womens-leadership-retreat/
LOCATION:Best Western Premier the Lodge on Lake Detroit\, 1200 E Shore Dr\, Detroit Lakes\, Minnesota\, 56501\, United States
ATTACH;FMTTYPE=image/png:https://hrdc.org/wp-content/uploads/2026/03/Leading-Together-1.png
END:VEVENT
BEGIN:VEVENT
DTSTART;TZID=America/Chicago:20260513T150000
DTEND;TZID=America/Chicago:20260513T170000
DTSTAMP:20260421T190636
CREATED:20260128T154132Z
LAST-MODIFIED:20260128T162928Z
UID:2674-1778684400-1778691600@hrdc.org
SUMMARY:Beltrami County HRA Meeting
DESCRIPTION:Meetings held at: \nHeadwaters Regional Development Commission Building \n1320 Neilson Ave SE \nBemidji\, MN 56601 \nUpcoming Meetings Schedule \nWednesday\, June 10\, 2026 \nWednesday\, July 8\, 2026 \nWednesday\, August 12\, 2026 \nWednesday\, September 9\, 2026 \nWednesday\, October 14\, 2026 \nWednesday\, November 11\, 2026 \nWednesday\, December 9\, 2026 \nFor meeting invites contact Sandy Hennum at shennum@hrdc.org
URL:https://hrdc.org/event/beltrami-county-hra-meeting-8/
LOCATION:Headwater Regional Development Commission\, 1320 Neilson Ave SE\, Bemidji\, MN\, 56601
CATEGORIES:meetings
ATTACH;FMTTYPE=image/jpeg:https://hrdc.org/wp-content/uploads/2021/07/Villas-Building-1-March-2021-scaled.jpg
ORGANIZER;CN="Sandy Hennum":MAILTO:shennum@hrdc.org
END:VEVENT
BEGIN:VEVENT
DTSTART;TZID=America/Chicago:20260520T160000
DTEND;TZID=America/Chicago:20260520T180000
DTSTAMP:20260421T190636
CREATED:20260128T151134Z
LAST-MODIFIED:20260128T162236Z
UID:2649-1779292800-1779300000@hrdc.org
SUMMARY:Headwaters Housing Development Corporation (HHDC) Meeting
DESCRIPTION:Meetings held at: \nHeadwaters Regional Development Commission Building \n1320 Neilson Ave SE \nBemidji\, MN 56601 \nUpcoming Meetings Schedule \nJune 17\, 2026 \nJuly 15\, 2026 \nAugust 19\, 2026 \nSeptember 16\, 2026 \nOctober 21\, 2026 \nNovember 18\, 2026 \n  \nFor meeting invites contact Rhonda Walters at rwalters@hrdc.org
URL:https://hrdc.org/event/headwaters-housing-development-corporation-hhdc-meeting-13/
LOCATION:Headwater Regional Development Commission\, 1320 Neilson Ave SE\, Bemidji\, MN\, 56601
CATEGORIES:meetings
ATTACH;FMTTYPE=image/jpeg:https://hrdc.org/wp-content/uploads/2026/01/HS-Build-Outside.jpg
END:VEVENT
BEGIN:VEVENT
DTSTART;TZID=America/Chicago:20260521T173000
DTEND;TZID=America/Chicago:20260521T193000
DTSTAMP:20260421T190636
CREATED:20260128T181636Z
LAST-MODIFIED:20260128T213227Z
UID:2710-1779384600-1779391800@hrdc.org
SUMMARY:Headwaters Regional Development Commission Board Meeting
DESCRIPTION:Meetings held at: \nHeadwaters Regional Development Commission Building \n1320 Neilson Ave SE \nBemidji\, MN 56601 \nUpcoming Meetings Schedule \nThursday\, June 18 2026 \nThursday\, July 16\, 2026 \nThursday\, September 17\, 2026 \nThursday\, October 15\, 2026 \nThursday\, November 19\, 2026 \nFor meeting invites contact Calvin Larson at CLarson@hrdc.org
URL:https://hrdc.org/event/headwaters-regional-development-commission-board-meeting-12/
LOCATION:Headwater Regional Development Commission\, 1320 Neilson Ave SE\, Bemidji\, MN\, 56601
ATTACH;FMTTYPE=image/jpeg:https://hrdc.org/wp-content/uploads/2020/06/cropped-HRDC-icon.jpg
END:VEVENT
BEGIN:VEVENT
DTSTART;TZID=America/Chicago:20260610T150000
DTEND;TZID=America/Chicago:20260610T170000
DTSTAMP:20260421T190636
CREATED:20260128T154222Z
LAST-MODIFIED:20260128T154222Z
UID:2676-1781103600-1781110800@hrdc.org
SUMMARY:Beltrami County HRA Meeting
DESCRIPTION:Meetings held at: \nHeadwaters Regional Development Commission Building \n1320 Neilson Ave SE \nBemidji\, MN 56601 \nUpcoming Meetings Schedule \nWednesday\, July 8\, 2026 \nWednesday\, August 12\, 2026 \nWednesday\, September 9\, 2026 \nWednesday\, October 14\, 2026 \nWednesday\, November 11\, 2026 \nWednesday\, December 9\, 2026 \nFor meeting invites contact Sandy Hennum at shennum@hrdc.org
URL:https://hrdc.org/event/beltrami-county-hra-meeting-9/
LOCATION:Headwater Regional Development Commission\, 1320 Neilson Ave SE\, Bemidji\, MN\, 56601
CATEGORIES:meetings
ORGANIZER;CN="Sandy Hennum":MAILTO:shennum@hrdc.org
END:VEVENT
BEGIN:VEVENT
DTSTART;TZID=America/Chicago:20260617T160000
DTEND;TZID=America/Chicago:20260617T180000
DTSTAMP:20260421T190636
CREATED:20260128T151224Z
LAST-MODIFIED:20260128T162254Z
UID:2651-1781712000-1781719200@hrdc.org
SUMMARY:Headwaters Housing Development Corporation (HHDC) Meeting
DESCRIPTION:Meetings held at: \nHeadwaters Regional Development Commission Building \n1320 Neilson Ave SE \nBemidji\, MN 56601 \nUpcoming Meetings Schedule \nJuly 15\, 2026 \nAugust 19\, 2026 \nSeptember 16\, 2026 \nOctober 21\, 2026 \nNovember 18\, 2026 \n  \nFor meeting invites contact Rhonda Walters at rwalters@hrdc.org \n 
URL:https://hrdc.org/event/headwaters-housing-development-corporation-hhdc-meeting-14/
LOCATION:Headwater Regional Development Commission\, 1320 Neilson Ave SE\, Bemidji\, MN\, 56601
CATEGORIES:meetings
ATTACH;FMTTYPE=image/jpeg:https://hrdc.org/wp-content/uploads/2026/01/HS-Build-Outside.jpg
END:VEVENT
BEGIN:VEVENT
DTSTART;TZID=America/Chicago:20260618T173000
DTEND;TZID=America/Chicago:20260618T193000
DTSTAMP:20260421T190636
CREATED:20260128T181709Z
LAST-MODIFIED:20260128T213433Z
UID:2712-1781803800-1781811000@hrdc.org
SUMMARY:Headwaters Regional Development Commission Board Meeting
DESCRIPTION:Meetings held at: \nHeadwaters Regional Development Commission Building \n1320 Neilson Ave SE \nBemidji\, MN 56601 \nUpcoming Meetings Schedule \nThursday\, July 16\, 2026 \nThursday\, September 17\, 2026 \nThursday\, October 15\, 2026 \nThursday\, November 19\, 2026 \nFor meeting invites contact Calvin Larson at CLarson@hrdc.org
URL:https://hrdc.org/event/headwaters-regional-development-commission-board-meeting-13/
LOCATION:Headwater Regional Development Commission\, 1320 Neilson Ave SE\, Bemidji\, MN\, 56601
CATEGORIES:meetings
ATTACH;FMTTYPE=image/jpeg:https://hrdc.org/wp-content/uploads/2020/06/cropped-HRDC-icon.jpg
END:VEVENT
BEGIN:VEVENT
DTSTART;TZID=America/Chicago:20260708T150000
DTEND;TZID=America/Chicago:20260708T170000
DTSTAMP:20260421T190636
CREATED:20260128T154327Z
LAST-MODIFIED:20260128T154327Z
UID:2678-1783522800-1783530000@hrdc.org
SUMMARY:Beltrami County HRA Meeting
DESCRIPTION:Meetings held at: \nHeadwaters Regional Development Commission Building \n1320 Neilson Ave SE \nBemidji\, MN 56601 \nUpcoming Meetings Schedule \nWednesday\, August 12\, 2026 \nWednesday\, September 9\, 2026 \nWednesday\, October 14\, 2026 \nWednesday\, November 11\, 2026 \nWednesday\, December 9\, 2026 \nFor meeting invites contact Sandy Hennum at shennum@hrdc.org
URL:https://hrdc.org/event/beltrami-county-hra-meeting-10/
LOCATION:Headwater Regional Development Commission\, 1320 Neilson Ave SE\, Bemidji\, MN\, 56601
CATEGORIES:meetings
ORGANIZER;CN="Sandy Hennum":MAILTO:shennum@hrdc.org
END:VEVENT
BEGIN:VEVENT
DTSTART;TZID=America/Chicago:20260715T160000
DTEND;TZID=America/Chicago:20260715T180000
DTSTAMP:20260421T190636
CREATED:20260128T151311Z
LAST-MODIFIED:20260128T151311Z
UID:2653-1784131200-1784138400@hrdc.org
SUMMARY:Headwaters Housing Development Corporation (HHDC) Meeting
DESCRIPTION:Meetings held at: \nHeadwaters Regional Development Commission Building \n1320 Neilson Ave SE \nBemidji\, MN 56601 \nUpcoming Meetings Schedule \nJuly 15\, 2026 \nAugust 19\, 2026 \nSeptember 16\, 2026 \nOctober 21\, 2026 \nNovember 18\, 2026 \n  \nFor meeting invites contact Rhonda Walters at rwalters@hrdc.org \n 
URL:https://hrdc.org/event/headwaters-housing-development-corporation-hhdc-meeting-15/
LOCATION:Headwater Regional Development Commission\, 1320 Neilson Ave SE\, Bemidji\, MN\, 56601
CATEGORIES:meetings
END:VEVENT
BEGIN:VEVENT
DTSTART;TZID=America/Chicago:20260716T173000
DTEND;TZID=America/Chicago:20260716T193000
DTSTAMP:20260421T190636
CREATED:20260128T182330Z
LAST-MODIFIED:20260128T213519Z
UID:2714-1784223000-1784230200@hrdc.org
SUMMARY:Headwaters Regional Development Commission Board Meeting
DESCRIPTION:Meetings held at: \nHeadwaters Regional Development Commission Building \n1320 Neilson Ave SE \nBemidji\, MN 56601 \nUpcoming Meetings Schedule \nThursday\, September 17\, 2026 \nThursday\, October 15\, 2026 \nThursday\, November 19\, 2026 \nFor meeting invites contact Calvin Larson at CLarson@hrdc.org
URL:https://hrdc.org/event/headwaters-regional-development-commission-board-meeting-14/
LOCATION:Headwater Regional Development Commission\, 1320 Neilson Ave SE\, Bemidji\, MN\, 56601
CATEGORIES:meetings
ATTACH;FMTTYPE=image/jpeg:https://hrdc.org/wp-content/uploads/2020/06/cropped-HRDC-icon.jpg
END:VEVENT
BEGIN:VEVENT
DTSTART;TZID=America/Chicago:20260812T150000
DTEND;TZID=America/Chicago:20260812T170000
DTSTAMP:20260421T190636
CREATED:20260128T154404Z
LAST-MODIFIED:20260128T154404Z
UID:2680-1786546800-1786554000@hrdc.org
SUMMARY:Beltrami County HRA Meeting
DESCRIPTION:Meetings held at: \nHeadwaters Regional Development Commission Building \n1320 Neilson Ave SE \nBemidji\, MN 56601 \nUpcoming Meetings Schedule \nWednesday\, September 9\, 2026 \nWednesday\, October 14\, 2026 \nWednesday\, November 11\, 2026 \nWednesday\, December 9\, 2026 \nFor meeting invites contact Sandy Hennum at shennum@hrdc.org
URL:https://hrdc.org/event/beltrami-county-hra-meeting-11/
LOCATION:Headwater Regional Development Commission\, 1320 Neilson Ave SE\, Bemidji\, MN\, 56601
CATEGORIES:meetings
ORGANIZER;CN="Sandy Hennum":MAILTO:shennum@hrdc.org
END:VEVENT
BEGIN:VEVENT
DTSTART;TZID=America/Chicago:20260819T160000
DTEND;TZID=America/Chicago:20260819T180000
DTSTAMP:20260421T190636
CREATED:20260128T151353Z
LAST-MODIFIED:20260128T162027Z
UID:2655-1787155200-1787162400@hrdc.org
SUMMARY:Headwaters Housing Development Corporation (HHDC) Meeting
DESCRIPTION:Meetings held at: \nHeadwaters Regional Development Commission Building \n1320 Neilson Ave SE \nBemidji\, MN 56601 \nUpcoming Meetings Schedule \nAugust 19\, 2026 \nSeptember 16\, 2026 \nOctober 21\, 2026 \nNovember 18\, 2026 \n  \nFor meeting invites contact Rhonda Walters at rwalters@hrdc.org
URL:https://hrdc.org/event/headwaters-housing-development-corporation-hhdc-meeting-16/
LOCATION:Headwater Regional Development Commission\, 1320 Neilson Ave SE\, Bemidji\, MN\, 56601
CATEGORIES:meetings
ATTACH;FMTTYPE=image/jpeg:https://hrdc.org/wp-content/uploads/2026/01/HS-Build-Outside.jpg
END:VEVENT
BEGIN:VEVENT
DTSTART;TZID=America/Chicago:20260909T150000
DTEND;TZID=America/Chicago:20260909T170000
DTSTAMP:20260421T190636
CREATED:20260128T154443Z
LAST-MODIFIED:20260128T154443Z
UID:2682-1788966000-1788973200@hrdc.org
SUMMARY:Beltrami County HRA Meeting
DESCRIPTION:Beltrami County HRA Meeting \nMeetings held at: \nHeadwaters Regional Development Commission Building \n1320 Neilson Ave SE \nBemidji\, MN 56601 \nUpcoming Meetings Schedule \nWednesday\, October 14\, 2026 \nWednesday\, November 11\, 2026 \nWednesday\, December 9\, 2026 \nFor meeting invites contact Sandy Hennum at shennum@hrdc.org
URL:https://hrdc.org/event/beltrami-county-hra-meeting-12/
LOCATION:Headwater Regional Development Commission\, 1320 Neilson Ave SE\, Bemidji\, MN\, 56601
CATEGORIES:meetings
ORGANIZER;CN="Sandy Hennum":MAILTO:shennum@hrdc.org
END:VEVENT
BEGIN:VEVENT
DTSTART;TZID=America/Chicago:20260916T160000
DTEND;TZID=America/Chicago:20260916T180000
DTSTAMP:20260421T190636
CREATED:20260128T151430Z
LAST-MODIFIED:20260128T162012Z
UID:2657-1789574400-1789581600@hrdc.org
SUMMARY:Headwaters Housing Development Corporation (HHDC) Meeting
DESCRIPTION:Meetings held at: \nHeadwaters Regional Development Commission Building \n1320 Neilson Ave SE \nBemidji\, MN 56601 \nUpcoming Meetings Schedule \nOctober 21\, 2026 \nNovember 18\, 2026 \n  \nFor meeting invites contact Rhonda Walters at rwalters@hrdc.org
URL:https://hrdc.org/event/headwaters-housing-development-corporation-hhdc-meeting-17/
LOCATION:Headwater Regional Development Commission\, 1320 Neilson Ave SE\, Bemidji\, MN\, 56601
CATEGORIES:meetings
ATTACH;FMTTYPE=image/jpeg:https://hrdc.org/wp-content/uploads/2026/01/HS-Build-Outside.jpg
END:VEVENT
BEGIN:VEVENT
DTSTART;TZID=America/Chicago:20260917T173000
DTEND;TZID=America/Chicago:20260917T193000
DTSTAMP:20260421T190636
CREATED:20260128T185311Z
LAST-MODIFIED:20260128T185311Z
UID:2725-1789666200-1789673400@hrdc.org
SUMMARY:Headwaters Regional Development Commission Board Meeting
DESCRIPTION:Meetings held at: \nHeadwaters Regional Development Commission Building \n1320 Neilson Ave SE \nBemidji\, MN 56601 \nUpcoming Meetings Schedule \nThursday\, October 15\, 2026 \nThursday\, November 19\, 2026 \nFor meeting invites contact Calvin Larson at CLarson@hrdc.org
URL:https://hrdc.org/event/headwaters-regional-development-commission-board-meeting-16/
LOCATION:Headwater Regional Development Commission\, 1320 Neilson Ave SE\, Bemidji\, MN\, 56601
CATEGORIES:meetings
ATTACH;FMTTYPE=image/jpeg:https://hrdc.org/wp-content/uploads/2020/06/cropped-HRDC-icon.jpg
END:VEVENT
BEGIN:VEVENT
DTSTART;TZID=America/Chicago:20261014T150000
DTEND;TZID=America/Chicago:20261014T170000
DTSTAMP:20260421T190636
CREATED:20260128T154531Z
LAST-MODIFIED:20260128T154531Z
UID:2684-1791990000-1791997200@hrdc.org
SUMMARY:Beltrami County HRA Meeting
DESCRIPTION:Beltrami County HRA Meeting \nMeetings held at: \nHeadwaters Regional Development Commission Building \n1320 Neilson Ave SE \nBemidji\, MN 56601 \nUpcoming Meetings Schedule \nWednesday\, November 11\, 2026 \nWednesday\, December 9\, 2026 \nFor meeting invites contact Sandy Hennum at shennum@hrdc.org
URL:https://hrdc.org/event/beltrami-county-hra-meeting-13/
LOCATION:Headwater Regional Development Commission\, 1320 Neilson Ave SE\, Bemidji\, MN\, 56601
CATEGORIES:meetings
ORGANIZER;CN="Sandy Hennum":MAILTO:shennum@hrdc.org
END:VEVENT
END:VCALENDAR