BEGIN:VCALENDAR
VERSION:2.0
PRODID:-//Headwaters Regional Development - ECPv6.15.17.1//NONSGML v1.0//EN
CALSCALE:GREGORIAN
METHOD:PUBLISH
X-ORIGINAL-URL:https://hrdc.org
X-WR-CALDESC:Events for Headwaters Regional Development
REFRESH-INTERVAL;VALUE=DURATION:PT1H
X-Robots-Tag:noindex
X-PUBLISHED-TTL:PT1H
BEGIN:VTIMEZONE
TZID:America/Chicago
BEGIN:DAYLIGHT
TZOFFSETFROM:-0600
TZOFFSETTO:-0500
TZNAME:CDT
DTSTART:20250309T080000
END:DAYLIGHT
BEGIN:STANDARD
TZOFFSETFROM:-0500
TZOFFSETTO:-0600
TZNAME:CST
DTSTART:20251102T070000
END:STANDARD
BEGIN:DAYLIGHT
TZOFFSETFROM:-0600
TZOFFSETTO:-0500
TZNAME:CDT
DTSTART:20260308T080000
END:DAYLIGHT
BEGIN:STANDARD
TZOFFSETFROM:-0500
TZOFFSETTO:-0600
TZNAME:CST
DTSTART:20261101T070000
END:STANDARD
BEGIN:DAYLIGHT
TZOFFSETFROM:-0600
TZOFFSETTO:-0500
TZNAME:CDT
DTSTART:20270314T080000
END:DAYLIGHT
BEGIN:STANDARD
TZOFFSETFROM:-0500
TZOFFSETTO:-0600
TZNAME:CST
DTSTART:20271107T070000
END:STANDARD
END:VTIMEZONE
BEGIN:VEVENT
DTSTART;TZID=America/Chicago:20261119T173000
DTEND;TZID=America/Chicago:20261119T193000
DTSTAMP:20260417T192330
CREATED:20260128T185406Z
LAST-MODIFIED:20260128T185406Z
UID:2729-1795109400-1795116600@hrdc.org
SUMMARY:Headwaters Regional Development Commission Board Meeting
DESCRIPTION:Meetings held at: \nHeadwaters Regional Development Commission Building \n1320 Neilson Ave SE \nBemidji\, MN 56601 \nUpcoming Meetings Schedule \nTBD \nFor meeting invites contact Calvin Larson at CLarson@hrdc.org
URL:https://hrdc.org/event/headwaters-regional-development-commission-board-meeting-18/
LOCATION:Headwater Regional Development Commission\, 1320 Neilson Ave SE\, Bemidji\, MN\, 56601
CATEGORIES:meetings
ATTACH;FMTTYPE=image/jpeg:https://hrdc.org/wp-content/uploads/2020/06/cropped-HRDC-icon.jpg
END:VEVENT
END:VCALENDAR