BEGIN:VCALENDAR
VERSION:2.0
PRODID:-//Headwaters Regional Development - ECPv6.15.17.1//NONSGML v1.0//EN
CALSCALE:GREGORIAN
METHOD:PUBLISH
X-WR-CALNAME:Headwaters Regional Development
X-ORIGINAL-URL:https://hrdc.org
X-WR-CALDESC:Events for Headwaters Regional Development
REFRESH-INTERVAL;VALUE=DURATION:PT1H
X-Robots-Tag:noindex
X-PUBLISHED-TTL:PT1H
BEGIN:VTIMEZONE
TZID:America/Chicago
BEGIN:DAYLIGHT
TZOFFSETFROM:-0600
TZOFFSETTO:-0500
TZNAME:CDT
DTSTART:20240310T080000
END:DAYLIGHT
BEGIN:STANDARD
TZOFFSETFROM:-0500
TZOFFSETTO:-0600
TZNAME:CST
DTSTART:20241103T070000
END:STANDARD
BEGIN:DAYLIGHT
TZOFFSETFROM:-0600
TZOFFSETTO:-0500
TZNAME:CDT
DTSTART:20250309T080000
END:DAYLIGHT
BEGIN:STANDARD
TZOFFSETFROM:-0500
TZOFFSETTO:-0600
TZNAME:CST
DTSTART:20251102T070000
END:STANDARD
BEGIN:DAYLIGHT
TZOFFSETFROM:-0600
TZOFFSETTO:-0500
TZNAME:CDT
DTSTART:20260308T080000
END:DAYLIGHT
BEGIN:STANDARD
TZOFFSETFROM:-0500
TZOFFSETTO:-0600
TZNAME:CST
DTSTART:20261101T070000
END:STANDARD
END:VTIMEZONE
BEGIN:VEVENT
DTSTART;TZID=America/Chicago:20250417T173000
DTEND;TZID=America/Chicago:20250417T190000
DTSTAMP:20260422T050027
CREATED:20250220T171759Z
LAST-MODIFIED:20250220T171759Z
UID:2461-1744911000-1744916400@hrdc.org
SUMMARY:Headwaters Regional Development Commission Board Meeting
DESCRIPTION:For meeting invites contact Calvin Larson at CLarson@hrdc.org \n  \nMeetings held at: \nHeadwaters Regional Development Commission Building \n1320 Neilson Ave SE \nBemidji\, MN 56601 \nUpcoming Meetings Schedule \nThursday\, May 15\, 2025 at 5:50 \nThursday\, June 19\, 2025 at 5:50
URL:https://hrdc.org/event/headwaters-regional-development-commission-board-meeting-8/
LOCATION:MN
END:VEVENT
END:VCALENDAR